BEGIN:VCALENDAR
VERSION:2.0
PRODID:-//Agrupació Excursionista "Catalunya"//NONSGML kigkonsult.se iCalcreator 2.41.92//
CALSCALE:GREGORIAN
METHOD:PUBLISH
UID:38323664-6234-4738-a534-356538386232
X-WR-CALNAME:iCagenda
X-WR-CALDESC:Event Management Extension for Joomla!
X-WR-RELCALID:3E26604A-50F4-4449-8B3E-E4F4932D05B5
X-WR-TIMEZONE:Europe/Madrid
BEGIN:VTIMEZONE
TZID:Europe/Madrid
TZUNTIL:20271031T010000Z
BEGIN:STANDARD
TZNAME:CET
DTSTART:20251026T030000
TZOFFSETFROM:+0200
TZOFFSETTO:+0100
RDATE:20261025T030000
END:STANDARD
BEGIN:DAYLIGHT
TZNAME:CEST
DTSTART:20260329T020000
TZOFFSETFROM:+0100
TZOFFSETTO:+0200
RDATE:20270328T020000
END:DAYLIGHT
END:VTIMEZONE
BEGIN:VEVENT
UID:63343232-3438-4264-b736-633963663536
DTSTAMP:20260425T210805Z
CATEGORIES:ERE
CLASS:PUBLIC
DESCRIPTION;ALTREP="CID:<FFFF__=0ABBE548DFE235B58f9e8a93d@coffeebean.com>":
 \nCova de Vallmajor (Espeleoindex)\nCova de Vallmajor (EspeleoWorld)\nCova
  de Vallmajor (Espelobloc)\nCova de Vallmajor (Espelodijous)
DTSTART:20260425T180500Z
DTEND:20260425T180500Z
GEO:00;0
LOCATION:
ORGANIZER:
SEQUENCE:1
SUMMARY:Cova de Vallmajor (-67 m)
TRANSP:OPAQUE
URL:https://www.aec.cat/component/icagenda/cova-de-vallmajor-67-m/2026-04-2
 5-20-05
END:VEVENT
END:VCALENDAR
