BEGIN:VCALENDAR
VERSION:2.0
PRODID:-//Agrupació Excursionista "Catalunya"//NONSGML kigkonsult.se iCalcreator 2.41.92//
CALSCALE:GREGORIAN
METHOD:PUBLISH
UID:37313366-3863-4633-b166-363237643932
X-WR-CALNAME:iCagenda
X-WR-CALDESC:Event Management Extension for Joomla!
X-WR-RELCALID:3E26604A-50F4-4449-8B3E-E4F4932D05B5
X-WR-TIMEZONE:Europe/Madrid
BEGIN:VTIMEZONE
TZID:Europe/Madrid
TZUNTIL:20210328T010000Z
BEGIN:STANDARD
TZNAME:CET
DTSTART:20181028T030000
TZOFFSETFROM:+0200
TZOFFSETTO:+0100
RDATE:20191027T030000
RDATE:20201025T030000
END:STANDARD
BEGIN:DAYLIGHT
TZNAME:CEST
DTSTART:20190331T020000
TZOFFSETFROM:+0100
TZOFFSETTO:+0200
RDATE:20200329T020000
END:DAYLIGHT
END:VTIMEZONE
BEGIN:VEVENT
UID:38336665-3637-4531-b161-363133653966
DTSTAMP:20260420T031327Z
CATEGORIES:SEAM
CLASS:PUBLIC
DESCRIPTION;ALTREP="CID:<FFFF__=0ABBE548DFE235B58f9e8a93d@coffeebean.com>":
 Vocal: Xavi Díez
DTSTART:20190611T220000Z
DTEND:20190611T220000Z
GEO:00;0
LOCATION:
ORGANIZER:
SEQUENCE:1
SUMMARY:Ports de Tortosa  (Arnes)
TRANSP:OPAQUE
URL:https://www.aec.cat/component/icagenda/ports-de-tortosa-arnes/2019-06-1
 2-00-00?Itemid=178
END:VEVENT
END:VCALENDAR
