BEGIN:VCALENDAR
VERSION:2.0
PRODID:-//Agrupació Excursionista "Catalunya"//NONSGML kigkonsult.se iCalcreator 2.41.92//
CALSCALE:GREGORIAN
METHOD:PUBLISH
UID:34613662-6263-4462-a130-326130663562
X-WR-CALNAME:iCagenda
X-WR-CALDESC:Event Management Extension for Joomla!
X-WR-RELCALID:3E26604A-50F4-4449-8B3E-E4F4932D05B5
X-WR-TIMEZONE:Europe/Madrid
BEGIN:VTIMEZONE
TZID:Europe/Madrid
TZUNTIL:20221030T010000Z
BEGIN:STANDARD
TZNAME:CET
DTSTART:20191027T030000
TZOFFSETFROM:+0200
TZOFFSETTO:+0100
RDATE:20201025T030000
RDATE:20211031T030000
END:STANDARD
BEGIN:DAYLIGHT
TZNAME:CEST
DTSTART:20200329T020000
TZOFFSETFROM:+0100
TZOFFSETTO:+0200
RDATE:20210328T020000
RDATE:20220327T020000
END:DAYLIGHT
END:VTIMEZONE
BEGIN:VEVENT
UID:63613362-3034-4433-b362-616266393363
DTSTAMP:20260424T030443Z
CATEGORIES:Cultura
CLASS:PUBLIC
DESCRIPTION;ALTREP="CID:<FFFF__=0ABBE548DFE235B58f9e8a93d@coffeebean.com>":
 Seguint la nostra tradició\, un cop més ja tenim enparaulat el sopar de Na
 dal que en guany serà el 14 de desembre a les 20 h. i que ens agradaria co
 mptar amb vosaltres.\nRESTAURANT LA POMARADA \n(Pg. De Gràcia\, 78 princip
 al) de Barcelona \nMenú\nPrimer plat\nAmanida de formatge de cabra del Ber
 guedà\, amb poma\, fruits secs\, pebrot escalivat i vinagreta de mostassa 
 i anxoves \nSegon plat (a escollir)\nMelós de vedella rostit al romaní\, a
 mb pastís de patata de prades\nBacallà amb fricandó de bolets\, gratina a 
 la muselina d’all suau\nLes postres\nColulant de xocolata amb gelat de cre
 ma catalana\n&amp\;\nTorrons \nEL CELLER\nAigua mineral\nVins Terracota\nC
 ava Roger de Flor Brut Nature\nCafès de Colòmbia\nPreu: 38 € \n \nInscripc
 ions (Data límit 12 de desembre)   \nHo podeu fer a través del WhatsApp de
  Cultura o a Secretaria\, indicant :\n\nNom i cognom de cada participant\n
 Segon plat que trieu\nEl pagament es pot fer a Secretaria o be per transfe
 rència al compte habitual de l’AEC: ES72 3025 0017 4114 0003 1058\, indica
 nt Nom i cognoms + “Sopar de Nadal” \n\n\nAquest any demanem a tots els qu
 e pugueu\, que aporteu alguna manualitat.  Les vostres aportacions\, seran
  el que cagarà el Tió. Poden ser de qualsevol tipus (artístiques\, culinàr
 ies\, labors\, etc.).  Us animem a participar-hi.\nPorteu-les\, si us plau
  al nostre local de Padilla\, 255\, abans del dia 10 de desembre\, embolic
 ades amb paper de regal i indicant el vostre nom.\nMoltes gràcies.  \nLes 
 vostres aportacions donaran un caire ben bonic al nostre sopar de Nadal. 
 \nUS HI ESPEREM !! \nVocals: Jordi RAMON (601 420 160) i Carme CAPDEVILA (
 628 179 296) 
DTSTART:20201002T220000Z
DTEND:20201002T220000Z
GEO:00;0
LOCATION:
ORGANIZER:
SEQUENCE:1
SUMMARY:Sopar de Nadal 2024
TRANSP:OPAQUE
URL:https://www.aec.cat/component/icagenda/sopar-de-nadal-2024/2020-10-03-0
 0-00?Itemid=178
END:VEVENT
END:VCALENDAR
