BEGIN:VCALENDAR
VERSION:2.0
PRODID:-//Agrupació Excursionista "Catalunya"//NONSGML kigkonsult.se iCalcreator 2.41.92//
CALSCALE:GREGORIAN
METHOD:PUBLISH
UID:35393737-3365-4662-b433-363662353134
X-WR-CALNAME:iCagenda
X-WR-CALDESC:Event Management Extension for Joomla!
X-WR-RELCALID:3E26604A-50F4-4449-8B3E-E4F4932D05B5
X-WR-TIMEZONE:Europe/Madrid
BEGIN:VTIMEZONE
TZID:Europe/Madrid
TZUNTIL:20240331T010000Z
BEGIN:STANDARD
TZNAME:CET
DTSTART:20211031T030000
TZOFFSETFROM:+0200
TZOFFSETTO:+0100
RDATE:20221030T030000
RDATE:20231029T030000
END:STANDARD
BEGIN:DAYLIGHT
TZNAME:CEST
DTSTART:20220327T020000
TZOFFSETFROM:+0100
TZOFFSETTO:+0200
RDATE:20230326T020000
END:DAYLIGHT
END:VTIMEZONE
BEGIN:VEVENT
UID:38333164-3239-4138-a462-616634346461
DTSTAMP:20260420T041859Z
CATEGORIES:Dimecres al Sol
CLASS:PUBLIC
DESCRIPTION;ALTREP="CID:<FFFF__=0ABBE548DFE235B58f9e8a93d@coffeebean.com>":
 Lloc i Hora de Sortida:  7 h. Local Agrupa.  \nTransport: Cotxes particula
 rs. \nInscripcions:  Us podeu apuntar a través del Grup de Whastsapp\, ind
 icant si teniu cotxe i places disponibles. \nRecorregut: 8 Km. aprox. \nDe
 snivell :  321 m. \nHorari aproximat: Unes 3 hores aprox. \nDificultat: fà
 cil.  \nRecorregut:  Des de l’Ermita de Sant Miquel de la Tosca\, i seguin
 t corriols marcats\, farem cap a la carena de la Serra de la Llena i arrib
 arem tot carenejat a la Punta del Curull (1.021 m.)\, sostre comarcal de l
 a comarca de les Garrigues\, amb molt bones vistes.  La tornada la farem r
 esseguint un tros més de carena fins a unes antenes i agafarem una pista d
 e baixada que ens retornarà al camí per on hem pujat. Abans d’ arribar als
  cotxes\, ens desviarem una mica\, per visitar l’ermita del Crucifix. \nMa
 terial: Motxilla\, barret\, roba d’abric protectora del vent i pluja\, cal
 çat de muntanya\, crema solar\, aigua\, esmorzar (qui vulgui) i dinar. \nÀ
 pats: Esmorzar al bar. Dinar de carmanyola\, a peu de cotxes (a l’ermita o
 n acabarem l’excursió\, hi ha taules i bancs de pedra i també\, ben a prop
  hi ha una font). \nVocal: Rosa M. Soler (699 537 419) \nNormativa: És obl
 igat llegir les Normes Generals de les sortides de l’AEC. El fet d’apuntar
 -se a aquesta sortida\, comporta l’acceptació de les mateixes.
DTSTART:20220524T220000Z
DTEND:20220524T220000Z
GEO:00;0
LOCATION:
ORGANIZER:
SEQUENCE:1
SUMMARY:Punta del Curull (Serra de la Llena)
TRANSP:OPAQUE
URL:https://www.aec.cat/menu-properes-activitats/2022-05-25-23-40-58/2022-0
 5-25-00-00
END:VEVENT
END:VCALENDAR
