BEGIN:VCALENDAR
VERSION:2.0
PRODID:-//Agrupació Excursionista "Catalunya"//NONSGML kigkonsult.se iCalcreator 2.41.92//
CALSCALE:GREGORIAN
METHOD:PUBLISH
UID:31363837-3361-4333-a238-346135326461
X-WR-CALNAME:iCagenda
X-WR-CALDESC:Event Management Extension for Joomla!
X-WR-RELCALID:3E26604A-50F4-4449-8B3E-E4F4932D05B5
X-WR-TIMEZONE:Europe/Madrid
BEGIN:VTIMEZONE
TZID:Europe/Madrid
TZUNTIL:20261025T010000Z
BEGIN:STANDARD
TZNAME:CET
DTSTART:20241027T030000
TZOFFSETFROM:+0200
TZOFFSETTO:+0100
RDATE:20251026T030000
END:STANDARD
BEGIN:DAYLIGHT
TZNAME:CEST
DTSTART:20240331T020000
TZOFFSETFROM:+0100
TZOFFSETTO:+0200
RDATE:20250330T020000
RDATE:20260329T020000
END:DAYLIGHT
END:VTIMEZONE
BEGIN:VEVENT
UID:34633132-6135-4966-b134-626338303230
DTSTAMP:20260423T040358Z
CATEGORIES:ERE
CLASS:PUBLIC
DESCRIPTION;ALTREP="CID:<FFFF__=0ABBE548DFE235B58f9e8a93d@coffeebean.com>":
 Aven de la Bergerie o Avenc del Cortal de la Llana\nAvenc dels Tres Dillun
 s\n\n
DTSTART:20250125T090900Z
DTEND:20250125T230900Z
GEO:00;0
LOCATION:
ORGANIZER:
SEQUENCE:1
SUMMARY:Avenc del Cortal de la Llana i Avenc dels Tres Dilluns
TRANSP:OPAQUE
URL:https://www.aec.cat/menu-properes-activitats/avenc-del-cortal-de-la-lla
 na-i-avenc-dels-tres-dilluns
END:VEVENT
END:VCALENDAR
