BEGIN:VCALENDAR
VERSION:2.0
PRODID:-//Agrupació Excursionista "Catalunya"//NONSGML kigkonsult.se iCalcreator 2.41.92//
CALSCALE:GREGORIAN
METHOD:PUBLISH
UID:37616236-6534-4530-a635-663964633763
X-WR-CALNAME:iCagenda
X-WR-CALDESC:Event Management Extension for Joomla!
X-WR-RELCALID:3E26604A-50F4-4449-8B3E-E4F4932D05B5
X-WR-TIMEZONE:Europe/Madrid
BEGIN:VTIMEZONE
TZID:Europe/Madrid
TZUNTIL:20240331T010000Z
BEGIN:STANDARD
TZNAME:CET
DTSTART:20211031T030000
TZOFFSETFROM:+0200
TZOFFSETTO:+0100
RDATE:20221030T030000
RDATE:20231029T030000
END:STANDARD
BEGIN:DAYLIGHT
TZNAME:CEST
DTSTART:20220327T020000
TZOFFSETFROM:+0100
TZOFFSETTO:+0200
RDATE:20230326T020000
END:DAYLIGHT
END:VTIMEZONE
BEGIN:VEVENT
UID:38323237-3061-4435-a264-666138353265
DTSTAMP:20260420T015255Z
CATEGORIES:Dimecres al Sol
CLASS:PUBLIC
DESCRIPTION;ALTREP="CID:<FFFF__=0ABBE548DFE235B58f9e8a93d@coffeebean.com>":
 Lloc i hora de trobada: C/ Padilla\, 255 a les 07.30hores\, Fabra i Puig /
  Meridiana 07.45 hores. \nTransport i inscripcions: Cotxes particulars. Ca
 l apuntar-se pel grup de Whatsapp.  També digueu qui pot portar cotxe per 
 anar omplint places. \nDistància: 13 km. Desnivell:  300 m. Horari aprox. 
 3 h\, sense comptar les aturades. \nDificultat: Itinerari fàcil\, però deg
 ut a l’època de l’any força calorós\, no oblideu barret\, crema\, sabatill
 es i banyador. Ens podrem anar remullant allà on la costa ens ho permeti o
  ens ho demani “El Cuerpo” \nItinerari:  Semicircular entre l’Escala i Cal
 a Montgó \nMaterial: Motxilla\, barret\, roba protectora del vent i pluja\
 , calçat de muntanya\, crema solar\, aigua\, esmorzar. Cal portar esmorzar
  i dinar per gaudir millor dels banys sense preses. \nVocal: Pere Mansilla
  \nNormativa: És obligatori llegir les Normes Generals de les sortides de 
 l’A.E.C. publicades en el Butlletí i la web de l’Agrupació. El fet d’apunt
 ar-se a aquesta sortida\, comporta l’acceptació de les mateixes. En aquest
 a excursió\, i a causa de les característiques de la mateixa\, no es poden
  portar gossos ni altres animals de companyia. 
DTSTART:20220621T220000Z
DTEND:20220621T220000Z
GEO:00;0
LOCATION:
ORGANIZER:
SEQUENCE:1
SUMMARY:Camí de Ronda L’Escala - Cala Montgó
TRANSP:OPAQUE
URL:https://www.aec.cat/menu-properes-activitats/cami-de-ronda-lescala-cala
 -montgo/2022-06-22-00-00
END:VEVENT
END:VCALENDAR
