BEGIN:VCALENDAR
VERSION:2.0
PRODID:-//Agrupació Excursionista "Catalunya"//NONSGML kigkonsult.se iCalcreator 2.41.92//
CALSCALE:GREGORIAN
METHOD:PUBLISH
UID:36643161-3161-4338-b337-393061326639
X-WR-CALNAME:iCagenda
X-WR-CALDESC:Event Management Extension for Joomla!
X-WR-RELCALID:3E26604A-50F4-4449-8B3E-E4F4932D05B5
X-WR-TIMEZONE:Europe/Madrid
BEGIN:VTIMEZONE
TZID:Europe/Madrid
TZUNTIL:20240331T010000Z
BEGIN:STANDARD
TZNAME:CET
DTSTART:20211031T030000
TZOFFSETFROM:+0200
TZOFFSETTO:+0100
RDATE:20221030T030000
RDATE:20231029T030000
END:STANDARD
BEGIN:DAYLIGHT
TZNAME:CEST
DTSTART:20220327T020000
TZOFFSETFROM:+0100
TZOFFSETTO:+0200
RDATE:20230326T020000
END:DAYLIGHT
END:VTIMEZONE
BEGIN:VEVENT
UID:63386133-3963-4161-b464-366232356365
DTSTAMP:20260420T105429Z
CATEGORIES:AEC
CLASS:PUBLIC
DESCRIPTION;ALTREP="CID:<FFFF__=0ABBE548DFE235B58f9e8a93d@coffeebean.com>":
 La SIJ s’encarrega del terreny per les tendes dels infants de la secció\, 
 però la resta d’assistents\, caldrà que ens fem cadascú la seva reserva\, 
 tant si es de plaça per a tenda o furgoneta\, com si es tracta de bungalow
 s.  Especifiqueu que es una nit\, però que el diumenge hi serem fins despr
 és de dinar.\nAquí teniu l’enllaç a la web del càmping:    https://www.cam
 pingoliana.cat/ \nEl desplaçament es farà amb vehicles particulars. \nActi
 vitats previstes: \nDissabte 17: Excursions per la zona.   Qui hi vulgui p
 articipar  haurà de ser al càmping abans de les 10\, hora prevista per com
 ençar les activitats.    Al vespre soparem tots junts (cadascú el seu) i f
 arem un cremat. \n\nSEMPREPODEM: Excursió a la Mola de Sant Honorat – Alt 
 Urgell (aec.cat)\nSENDERISME: Volta a la Roca del Corb – Alt Urgell (aec.c
 at)\n\nDiumenge 18:  Al matí\, els monitors de la SIJ ens prepararan una a
 ctivitat conjunta.  Després de dinar\, donarem per acabat el campament i m
 arxarem cap a casa. \nAnimeu-vos a venir\, que es una bona manera de comen
 çar la nova temporada tots junts.\nNOTA:  Per poder tenir un control\, els
  que vulgueu venir\, un cop feta la reserva\,  comuniqueu-ho a en Mateu de
  Secretaria\, per telèfon o pel whatsapp de Secretaria: 608429230 
DTSTART:20220917T153500Z
DTEND:20220918T153600Z
GEO:00;0
LOCATION:
ORGANIZER:
SEQUENCE:1
SUMMARY:Campament de Tardor 2022 - Oliana
TRANSP:OPAQUE
URL:https://www.aec.cat/menu-properes-activitats/campament-de-tardor-2022-o
 liana
END:VEVENT
END:VCALENDAR
