BEGIN:VCALENDAR
VERSION:2.0
PRODID:-//Agrupació Excursionista "Catalunya"//NONSGML kigkonsult.se iCalcreator 2.41.92//
CALSCALE:GREGORIAN
METHOD:PUBLISH
UID:33633864-3731-4833-b938-656561316537
X-WR-CALNAME:iCagenda
X-WR-CALDESC:Event Management Extension for Joomla!
X-WR-RELCALID:3E26604A-50F4-4449-8B3E-E4F4932D05B5
X-WR-TIMEZONE:Europe/Madrid
BEGIN:VTIMEZONE
TZID:Europe/Madrid
TZUNTIL:20240331T010000Z
BEGIN:STANDARD
TZNAME:CET
DTSTART:20211031T030000
TZOFFSETFROM:+0200
TZOFFSETTO:+0100
RDATE:20221030T030000
RDATE:20231029T030000
END:STANDARD
BEGIN:DAYLIGHT
TZNAME:CEST
DTSTART:20220327T020000
TZOFFSETFROM:+0100
TZOFFSETTO:+0200
RDATE:20230326T020000
END:DAYLIGHT
END:VTIMEZONE
BEGIN:VEVENT
UID:34396266-3332-4235-b337-386464663637
DTSTAMP:20260420T082633Z
CATEGORIES:Semprepodem
CLASS:PUBLIC
DESCRIPTION;ALTREP="CID:<FFFF__=0ABBE548DFE235B58f9e8a93d@coffeebean.com>":
 Activitat: Excursió de muntanya per a sòcies i socis.\nLloc i Hora de Sort
 ida: A la cantonada de l’Agrupa a les 07 h ò a les 10 h al Càmping Oliana
 \nTransport: Cotxes particulars.\nNOTA IMPORTANT: Aquesta excursió està co
 mbinada amb el Campament de Tardor de l’AEC\, organitzat per la SIJ a Olia
 na els dies 17 i 18. Per tant hi ha l’opció de fer l’excursió i participar
  al Campament de Tardor 2022 - Oliana (aec.cat) \, o bé participar a l’exc
 ursió i retornar a Barcelona el mateix dissabte. Al moment d’inscriure’s c
 al indicar si porteu cotxe\, places disponibles\, i si us quedeu o no al c
 ampament.\nInscripcions: Pel grup de Whatsapp de Semprepodem. Fins dijous 
 15 a les 20 h.\nRecorregut: 12 Km. aprox.\nDesnivell : 540 m aprox.\nHorar
 i aproximat: 4.45 h\nDificultat: Moderada\nItinerari: Circular\nRecorregut
 : Hostal de Can Boix (Peramola)\, Ermita de Sant Honorat\, cim de la Mola 
 de Sant Honorat\, Castell-llebre\, Hostal de Can Boix.\nMaterial: Motxilla
 \, barret\, roba d’abric protectora del vent i pluja\, calçat de muntanya\
 , crema solar\, aigua\, esmorzar i dinar.\nVocal: Pep Molinos (666 086 052
 )\nNormativa: És obligatori llegir les Normes Generals de les sortides de 
 l’A.E.C. publicades en el Butlletí. El fet d’apuntar-se a aquesta sortida\
 , comporta l’acceptació de les mateixes. En aquesta excursió\, i a causa d
 e les característiques de la mateixa\, no es poden portar gossos ni altres
  animals de companyia.
DTSTART:20220917T090200Z
DTEND:20220917T090200Z
GEO:00;0
LOCATION:
ORGANIZER:
SEQUENCE:1
SUMMARY:Excursió a la Mola de Sant Honorat – Alt Urgell
TRANSP:OPAQUE
URL:https://www.aec.cat/menu-properes-activitats/excursio-a-la-mola-de-sant
 -honorat-alt-urgell/2022-09-17-11-02
END:VEVENT
END:VCALENDAR
