BEGIN:VCALENDAR
VERSION:2.0
PRODID:-//Agrupació Excursionista "Catalunya"//NONSGML kigkonsult.se iCalcreator 2.41.92//
CALSCALE:GREGORIAN
METHOD:PUBLISH
UID:65623534-3231-4336-a231-653862306430
X-WR-CALNAME:iCagenda
X-WR-CALDESC:Event Management Extension for Joomla!
X-WR-RELCALID:3E26604A-50F4-4449-8B3E-E4F4932D05B5
X-WR-TIMEZONE:Europe/Madrid
BEGIN:VTIMEZONE
TZID:Europe/Madrid
TZUNTIL:20270328T010000Z
BEGIN:STANDARD
TZNAME:CET
DTSTART:20241027T030000
TZOFFSETFROM:+0200
TZOFFSETTO:+0100
RDATE:20251026T030000
RDATE:20261025T030000
END:STANDARD
BEGIN:DAYLIGHT
TZNAME:CEST
DTSTART:20250330T020000
TZOFFSETFROM:+0100
TZOFFSETTO:+0200
RDATE:20260329T020000
END:DAYLIGHT
END:VTIMEZONE
BEGIN:VEVENT
UID:64343162-3635-4435-b530-613734343339
DTSTAMP:20260420T232359Z
CATEGORIES:Senderisme
CLASS:PUBLIC
DESCRIPTION:
DTSTART:20250614T103100Z
DTEND:20250614T223100Z
GEO:00;0
LOCATION:
ORGANIZER:
SEQUENCE:1
SUMMARY:La Ribalera
TRANSP:OPAQUE
URL:https://www.aec.cat/menu-properes-activitats/la-ribalera-3
END:VEVENT
END:VCALENDAR
