BEGIN:VCALENDAR
VERSION:2.0
PRODID:-//Agrupació Excursionista "Catalunya"//NONSGML kigkonsult.se iCalcreator 2.41.92//
CALSCALE:GREGORIAN
METHOD:PUBLISH
UID:65366437-3138-4461-a366-366166656263
X-WR-CALNAME:iCagenda
X-WR-CALDESC:Event Management Extension for Joomla!
X-WR-RELCALID:3E26604A-50F4-4449-8B3E-E4F4932D05B5
X-WR-TIMEZONE:Europe/Madrid
BEGIN:VTIMEZONE
TZID:Europe/Madrid
TZUNTIL:20251026T010000Z
BEGIN:STANDARD
TZNAME:CET
DTSTART:20231029T030000
TZOFFSETFROM:+0200
TZOFFSETTO:+0100
RDATE:20241027T030000
END:STANDARD
BEGIN:DAYLIGHT
TZNAME:CEST
DTSTART:20230326T020000
TZOFFSETFROM:+0100
TZOFFSETTO:+0200
RDATE:20240331T020000
RDATE:20250330T020000
END:DAYLIGHT
END:VTIMEZONE
BEGIN:VEVENT
UID:32373735-3336-4461-b435-613837303932
DTSTAMP:20260422T085238Z
CATEGORIES:SEM
CLASS:PUBLIC
DESCRIPTION;ALTREP="CID:<FFFF__=0ABBE548DFE235B58f9e8a93d@coffeebean.com>":
 Vocal: Rafa Alacuart\nCom cada any\, realitzarem una estada als Alps per S
 etmana Santa! \nPer aquells que us inicieu o porteu una colla d’esquiades 
 a les cames\, en les sortides més tècniques s’intentarà proposar una sorti
 da alternativa per la zona. \nA l’Agrupa hi ha equips de seguretat de llog
 uer (Arva-pala-sonda) per 15 € la jornada\, amb una fiança de 30 €\, oblig
 atoris per assistir a les sortides organitzades. \nDes de la vocalia us po
 dem assessorar en realitzar cursos d’iniciació o cursos especialitzats de 
 seguretat. \nSalut i neu! \nLa vocalia \nsem@aec.cat 
DTSTART:20240210T181300Z
DTEND:20240211T091300Z
GEO:00;0
LOCATION:
ORGANIZER:
SEQUENCE:1
SUMMARY:Toumaset (Vall de Sorteny)
TRANSP:OPAQUE
URL:https://www.aec.cat/menu-properes-activitats/toumaset-vall-de-sorteny
END:VEVENT
END:VCALENDAR
