BEGIN:VCALENDAR
VERSION:2.0
PRODID:-//Agrupació Excursionista "Catalunya"//NONSGML kigkonsult.se iCalcreator 2.41.92//
CALSCALE:GREGORIAN
METHOD:PUBLISH
UID:61646232-3436-4232-b335-393864663838
X-WR-CALNAME:iCagenda
X-WR-CALDESC:Event Management Extension for Joomla!
X-WR-RELCALID:3E26604A-50F4-4449-8B3E-E4F4932D05B5
X-WR-TIMEZONE:Europe/Madrid
BEGIN:VTIMEZONE
TZID:Europe/Madrid
TZUNTIL:20240331T010000Z
BEGIN:STANDARD
TZNAME:CET
DTSTART:20211031T030000
TZOFFSETFROM:+0200
TZOFFSETTO:+0100
RDATE:20221030T030000
RDATE:20231029T030000
END:STANDARD
BEGIN:DAYLIGHT
TZNAME:CEST
DTSTART:20220327T020000
TZOFFSETFROM:+0100
TZOFFSETTO:+0200
RDATE:20230326T020000
END:DAYLIGHT
END:VTIMEZONE
BEGIN:VEVENT
UID:33393463-3966-4933-b663-386338613864
DTSTAMP:20260420T121622Z
CATEGORIES:Senderisme
CLASS:PUBLIC
DESCRIPTION;ALTREP="CID:<FFFF__=0ABBE548DFE235B58f9e8a93d@coffeebean.com>":
 Activitat: Excursió de muntanya per a sòcies i socis.\nLloc i Hora de Sort
 ida: A la cantonada de l’Agrupa a les 07 h ò a les 10 h al Càmping Oliana
 \nTransport: Cotxes particulars.\nNOTA IMPORTANT: Aquesta excursió està co
 mbinada amb el Campament de Tardor de l’AEC\, organitzat per la SIJ a Olia
 na els dies 17 i 18. Per tant hi ha l’opció de fer l’excursió i participar
  al Campament de Tardor 2022 - Oliana (aec.cat)\, o bé participar a l’excu
 rsió i retornar a Barcelona el mateix dissabte. Al moment d’inscriure’s ca
 l indicar si porteu cotxe\, places disponibles\, i si us quedeu o no al ca
 mpament.\nInscripcions: Pel grup de Whatsapp de Senderisme. Fins dijous 15
  a les 20 h.\nRecorregut: 7 Km. aprox.\nDesnivell : De 350 a 400 m aproxim
 adament.\nHorari aproximat: Està previst arribar de nou al càmping a mitja
  tarda.\nDificultat: Fàcil\nItinerari: Circular\nRecorregut: Hostal Can Bo
 ix-Grau de Porta-Quatre Camins-Camí de Coll de Mu-Pujada a l’ermita de St.
 Salvador del Corb (opcional)-Seguim el camí de coll de Mu-Trencall a l’esq
 uerra per on segueix el nostre itinerari (val la pena arribar-se al proper
  coll de Mu\, però no es imprescindible)-Seguint la volta passarem per la 
 Casa del Corb-Retorn a Can Boix\, per Quatre Camins i Grau de Porta.\nMate
 rial: Calçat i roba de muntanya apropiada (segons la climatologia esperada
 )\, pals\, crema solar\, aigua per tot el recorregut esmorzar i dinar.\nVo
 cal: Rosa Maria Soler (699 53 74 19)\nNormativa: És obligatori llegir les 
 Normes Generals de les sortides de l’A.E.C.
DTSTART:20220917T092700Z
DTEND:20220917T092700Z
GEO:00;0
LOCATION:
ORGANIZER:
SEQUENCE:1
SUMMARY:Volta a la Roca del Corb – Alt Urgell
TRANSP:OPAQUE
URL:https://www.aec.cat/menu-properes-activitats/volta-a-la-roca-del-corb-a
 lt-urgell/2022-09-17-11-27
END:VEVENT
END:VCALENDAR
